BEGIN:VCALENDAR
VERSION:2.0
PRODID:-//MariNaomi - ECPv6.15.17.1//NONSGML v1.0//EN
CALSCALE:GREGORIAN
METHOD:PUBLISH
X-WR-CALNAME:MariNaomi
X-ORIGINAL-URL:https://marinaomi.com
X-WR-CALDESC:Events for MariNaomi
REFRESH-INTERVAL;VALUE=DURATION:PT1H
X-Robots-Tag:noindex
X-PUBLISHED-TTL:PT1H
BEGIN:VTIMEZONE
TZID:UTC
BEGIN:STANDARD
TZOFFSETFROM:+0000
TZOFFSETTO:+0000
TZNAME:UTC
DTSTART:20230101T000000
END:STANDARD
END:VTIMEZONE
BEGIN:VEVENT
DTSTART;VALUE=DATE:20240218
DTEND;VALUE=DATE:20240219
DTSTAMP:20260425T165026
CREATED:20240822T193813Z
LAST-MODIFIED:20240822T193813Z
UID:1580-1708214400-1708300799@marinaomi.com
SUMMARY:SF Queer Comics Festival
DESCRIPTION:“Graphic Content” panel moderated by Justin Hall
URL:https://marinaomi.com/event/sf-queer-comics-festival/
LOCATION:San Francisco Public Library\, 100 Larkin St\, San Francisco\, CA\, 94102\, United States
END:VEVENT
END:VCALENDAR