BEGIN:VCALENDAR
VERSION:2.0
PRODID:-//MariNaomi - ECPv6.15.17.1//NONSGML v1.0//EN
CALSCALE:GREGORIAN
METHOD:PUBLISH
X-WR-CALNAME:MariNaomi
X-ORIGINAL-URL:https://marinaomi.com
X-WR-CALDESC:Events for MariNaomi
REFRESH-INTERVAL;VALUE=DURATION:PT1H
X-Robots-Tag:noindex
X-PUBLISHED-TTL:PT1H
BEGIN:VTIMEZONE
TZID:America/Los_Angeles
BEGIN:DAYLIGHT
TZOFFSETFROM:-0800
TZOFFSETTO:-0700
TZNAME:PDT
DTSTART:20220313T100000
END:DAYLIGHT
BEGIN:STANDARD
TZOFFSETFROM:-0700
TZOFFSETTO:-0800
TZNAME:PST
DTSTART:20221106T090000
END:STANDARD
BEGIN:DAYLIGHT
TZOFFSETFROM:-0800
TZOFFSETTO:-0700
TZNAME:PDT
DTSTART:20230312T100000
END:DAYLIGHT
BEGIN:STANDARD
TZOFFSETFROM:-0700
TZOFFSETTO:-0800
TZNAME:PST
DTSTART:20231105T090000
END:STANDARD
BEGIN:DAYLIGHT
TZOFFSETFROM:-0800
TZOFFSETTO:-0700
TZNAME:PDT
DTSTART:20240310T100000
END:DAYLIGHT
BEGIN:STANDARD
TZOFFSETFROM:-0700
TZOFFSETTO:-0800
TZNAME:PST
DTSTART:20241103T090000
END:STANDARD
END:VTIMEZONE
BEGIN:VTIMEZONE
TZID:America/New_York
BEGIN:DAYLIGHT
TZOFFSETFROM:-0500
TZOFFSETTO:-0400
TZNAME:EDT
DTSTART:20220313T070000
END:DAYLIGHT
BEGIN:STANDARD
TZOFFSETFROM:-0400
TZOFFSETTO:-0500
TZNAME:EST
DTSTART:20221106T060000
END:STANDARD
BEGIN:DAYLIGHT
TZOFFSETFROM:-0500
TZOFFSETTO:-0400
TZNAME:EDT
DTSTART:20230312T070000
END:DAYLIGHT
BEGIN:STANDARD
TZOFFSETFROM:-0400
TZOFFSETTO:-0500
TZNAME:EST
DTSTART:20231105T060000
END:STANDARD
BEGIN:DAYLIGHT
TZOFFSETFROM:-0500
TZOFFSETTO:-0400
TZNAME:EDT
DTSTART:20240310T070000
END:DAYLIGHT
BEGIN:STANDARD
TZOFFSETFROM:-0400
TZOFFSETTO:-0500
TZNAME:EST
DTSTART:20241103T060000
END:STANDARD
END:VTIMEZONE
BEGIN:VTIMEZONE
TZID:UTC
BEGIN:STANDARD
TZOFFSETFROM:+0000
TZOFFSETTO:+0000
TZNAME:UTC
DTSTART:20220101T000000
END:STANDARD
END:VTIMEZONE
BEGIN:VEVENT
DTSTART;TZID=America/Los_Angeles:20230903T140000
DTEND;TZID=America/Los_Angeles:20230903T160000
DTSTAMP:20260425T224429
CREATED:20240822T195301Z
LAST-MODIFIED:20240822T195301Z
UID:1594-1693749600-1693756800@marinaomi.com
SUMMARY:San Francisco Zine Fest
DESCRIPTION:MariNaomi signed books at the Fieldmouse Press table
URL:https://marinaomi.com/event/san-francisco-zine-fest-2/
LOCATION:City View at Metreon\, 135 4th St\, San Francisco\, CA\, 94103\, United States
END:VEVENT
BEGIN:VEVENT
DTSTART;TZID=America/New_York:20230908T190000
DTEND;TZID=America/New_York:20230908T190000
DTSTAMP:20260425T224429
CREATED:20240822T194823Z
LAST-MODIFIED:20240822T194947Z
UID:1591-1694199600-1694199600@marinaomi.com
SUMMARY:People’s Book with Keith Knight
DESCRIPTION:7 p.m. Author’s talk with celebrated cartoonist Keith Knight. Free\, in-person event. RSVP here.
URL:https://marinaomi.com/event/peoples-book-with-keith-knight/
LOCATION:People’s Book\, 7014 Westmoreland Ave Suite A\, Takoma Park\, MD\, 20912\, United States
END:VEVENT
BEGIN:VEVENT
DTSTART;VALUE=DATE:20230909
DTEND;VALUE=DATE:20230911
DTSTAMP:20260425T224429
CREATED:20240822T194416Z
LAST-MODIFIED:20240822T194416Z
UID:1588-1694217600-1694390399@marinaomi.com
SUMMARY:Small Press Expo featured guest
DESCRIPTION:Saturday\, Sept. 9\, 4pm to 5pm – White Oak Room\nPanel with Justin Hall and Rob Kirby \nSunday\, Sept. 1\, 1:30pm to 2:30pm – White Oak Room\nPanel: “Sub-genres of Memoir” with Paul Gravett\, Eddy Campbell\, Kayla Greet\, and Beth Trembley
URL:https://marinaomi.com/event/small-press-expo-featured-guest/
LOCATION:Bethesda North Marriott Hotel & Conference Center\, 5701 Marinelli Road\, Rockville\, MD\, United States
END:VEVENT
BEGIN:VEVENT
DTSTART;VALUE=DATE:20230917
DTEND;VALUE=DATE:20230918
DTSTAMP:20260425T224429
CREATED:20240822T194139Z
LAST-MODIFIED:20240822T194139Z
UID:1585-1694908800-1694995199@marinaomi.com
SUMMARY:Book Passage reading with Julia Wertz
DESCRIPTION:Julia and Mari read from their respective books: Impossible People and I Thought You Loved Me.
URL:https://marinaomi.com/event/book-passage-reading-with-julia-wertz/
LOCATION:Book Passage Bookstore & Cafe\, 51 Tamal Vista Blvd\, Corte Madera\, CA\, 94925\, United States
END:VEVENT
END:VCALENDAR