BEGIN:VCALENDAR
VERSION:2.0
PRODID:-//MariNaomi - ECPv6.15.17.1//NONSGML v1.0//EN
CALSCALE:GREGORIAN
METHOD:PUBLISH
X-ORIGINAL-URL:https://marinaomi.com
X-WR-CALDESC:Events for MariNaomi
REFRESH-INTERVAL;VALUE=DURATION:PT1H
X-Robots-Tag:noindex
X-PUBLISHED-TTL:PT1H
BEGIN:VTIMEZONE
TZID:UTC
BEGIN:STANDARD
TZOFFSETFROM:+0000
TZOFFSETTO:+0000
TZNAME:UTC
DTSTART:20220101T000000
END:STANDARD
END:VTIMEZONE
BEGIN:VEVENT
DTSTART;VALUE=DATE:20230729
DTEND;VALUE=DATE:20230730
DTSTAMP:20260426T013246
CREATED:20240822T195912Z
LAST-MODIFIED:20240822T200959Z
UID:1602-1690588800-1690675199@marinaomi.com
SUMMARY:6th Annual Comics Studies Society Conference
DESCRIPTION:MariNaomi was a keynote speaker.
URL:https://marinaomi.com/event/6th-annual-comics-studies-society-conference/
LOCATION:UNT Gateway Center\, Denton\, TX\, United States
END:VEVENT
END:VCALENDAR