BEGIN:VCALENDAR
VERSION:2.0
PRODID:-//MariNaomi - ECPv6.15.17.1//NONSGML v1.0//EN
CALSCALE:GREGORIAN
METHOD:PUBLISH
X-WR-CALNAME:MariNaomi
X-ORIGINAL-URL:https://marinaomi.com
X-WR-CALDESC:Events for MariNaomi
REFRESH-INTERVAL;VALUE=DURATION:PT1H
X-Robots-Tag:noindex
X-PUBLISHED-TTL:PT1H
BEGIN:VTIMEZONE
TZID:UTC
BEGIN:STANDARD
TZOFFSETFROM:+0000
TZOFFSETTO:+0000
TZNAME:UTC
DTSTART:20220101T000000
END:STANDARD
END:VTIMEZONE
BEGIN:VEVENT
DTSTART;VALUE=DATE:20230603
DTEND;VALUE=DATE:20230605
DTSTAMP:20260426T030053
CREATED:20240822T201808Z
LAST-MODIFIED:20240822T201808Z
UID:1612-1685750400-1685923199@marinaomi.com
SUMMARY:Chicago Alternative Comics Expo (CAKE) special guest
DESCRIPTION:Let’s Get Mushy! Romance Comics Explored panel\nA discussion exploring different perspectives on romance comics\, featuring Molly Mendoza  (The Worst)\, MariNaomi (I Thought You Loved Me)\, and Grace Allison Perkins (Tender Stories).
URL:https://marinaomi.com/event/chicago-alternative-comics-expo-cake-special-guest/
LOCATION:Broadway Armory\, 5917 N. Broadway\, Chicago\, IL\, United States
END:VEVENT
BEGIN:VEVENT
DTSTART;VALUE=DATE:20230617
DTEND;VALUE=DATE:20230618
DTSTAMP:20260426T030053
CREATED:20240822T200707Z
LAST-MODIFIED:20240822T200707Z
UID:1608-1686960000-1687046399@marinaomi.com
SUMMARY:Queer Comics Expo
DESCRIPTION:Banned Books Panel featuring MariNaomi\, AJ Sass\, and Katryn Bury
URL:https://marinaomi.com/event/queer-comics-expo/
LOCATION:San Lorenzo Library\, 395 Paseo Grande\, San Lorenzo\, CA\, 94580\, United States
END:VEVENT
BEGIN:VEVENT
DTSTART;VALUE=DATE:20230621
DTEND;VALUE=DATE:20230622
DTSTAMP:20260426T030053
CREATED:20240822T200059Z
LAST-MODIFIED:20240822T200213Z
UID:1605-1687305600-1687391999@marinaomi.com
SUMMARY:SF Pride Panel
DESCRIPTION:A Pride panel featuring Laura Gao\, MariNaomi\, and Baruch Porras-Hernandez\, moderated by Paula Farmer.
URL:https://marinaomi.com/event/sf-pride-panel/
LOCATION:Book Passage\, Ferry Building\, One Ferry Building 42\, San Francisco\, 94111\, United States
END:VEVENT
END:VCALENDAR