BEGIN:VCALENDAR
VERSION:2.0
PRODID:-//MariNaomi - ECPv6.15.17.1//NONSGML v1.0//EN
CALSCALE:GREGORIAN
METHOD:PUBLISH
X-ORIGINAL-URL:https://marinaomi.com
X-WR-CALDESC:Events for MariNaomi
REFRESH-INTERVAL;VALUE=DURATION:PT1H
X-Robots-Tag:noindex
X-PUBLISHED-TTL:PT1H
BEGIN:VTIMEZONE
TZID:America/Los_Angeles
BEGIN:DAYLIGHT
TZOFFSETFROM:-0800
TZOFFSETTO:-0700
TZNAME:PDT
DTSTART:20230312T100000
END:DAYLIGHT
BEGIN:STANDARD
TZOFFSETFROM:-0700
TZOFFSETTO:-0800
TZNAME:PST
DTSTART:20231105T090000
END:STANDARD
BEGIN:DAYLIGHT
TZOFFSETFROM:-0800
TZOFFSETTO:-0700
TZNAME:PDT
DTSTART:20240310T100000
END:DAYLIGHT
BEGIN:STANDARD
TZOFFSETFROM:-0700
TZOFFSETTO:-0800
TZNAME:PST
DTSTART:20241103T090000
END:STANDARD
BEGIN:DAYLIGHT
TZOFFSETFROM:-0800
TZOFFSETTO:-0700
TZNAME:PDT
DTSTART:20250309T100000
END:DAYLIGHT
BEGIN:STANDARD
TZOFFSETFROM:-0700
TZOFFSETTO:-0800
TZNAME:PST
DTSTART:20251102T090000
END:STANDARD
END:VTIMEZONE
BEGIN:VTIMEZONE
TZID:Asia/Tokyo
BEGIN:STANDARD
TZOFFSETFROM:+0900
TZOFFSETTO:+0900
TZNAME:JST
DTSTART:20230101T000000
END:STANDARD
END:VTIMEZONE
BEGIN:VEVENT
DTSTART;VALUE=DATE:20240812
DTEND;VALUE=DATE:20241111
DTSTAMP:20260423T083307
CREATED:20240822T185858Z
LAST-MODIFIED:20240822T185927Z
UID:1537-1723420800-1731283199@marinaomi.com
SUMMARY:Art Exhibit: Long-Distance Relationship: Asian American Comics Artists and the Complexities of Connecting
DESCRIPTION:Artists: Eddie Ahn\, Rina Ayuyang\, Tessa Hulls\, MariNaomi\, and Thien Pham \nLong Distance Relationship presents five graphic novel and memoir creators working in a range of styles and techniques to explore their deeply personal and complicated relationships with history\, culture\, family\, and community. As part of the Asian American diaspora\, these artists share similar experiences of fissure between the past and present that are both unique and universal. \nCurated by Glori Simmons and Jenifer Wofford \nOpening reception August 22\, 2024\, 5 p.m. to 7 p.m.
URL:https://marinaomi.com/event/art-exhibit-long-distance-relationship-asian-american-comics-artists-and-the-complexities-of-connecting/
LOCATION:University of San Francisco\, Thacher Gallery\, 2130 Fulton St.\, San Francisco\, CA\, 94117\, United States
END:VEVENT
BEGIN:VEVENT
DTSTART;TZID=Asia/Tokyo:20241030T190000
DTEND;TZID=Asia/Tokyo:20241030T210000
DTSTAMP:20260423T083307
CREATED:20240822T191557Z
LAST-MODIFIED:20241004T203154Z
UID:1551-1730314800-1730322000@marinaomi.com
SUMMARY:FabCafe Tokyo reading and presentation with Yumi Sakugawa
DESCRIPTION:COMICS BESTIES: MARINAOMI AND YUMI SAKUGAWA \nStatement for the Art Show (begins one week prior to the event) \nMariNaomi and Yumi Sakugawa are American visual storytellers who first met online in 2012. The nature of their work (experimental independent comics exploring their Japanese heritage) and shared struggles finding footing in a predominantly white\, sexist industry strengthened their allyship. Shortly after meeting\, Mari moved from San Francisco to Yumi’s Los Angeles\, and they became friends in real life. They met regularly for work dates\, gallery and museum outings\, and hiking in the mountains\, comparing their experiences\, both professional and personal. They share love for tasty food\, fashion photoshoots in the desert\, and having adventures. \nOver the years\, Mari and Yumi have had many art shows\, readings\, and book signings together. In 2021\, Mari moved back to the San Francisco Bay Area\, but their friendship was set. Yumi and Mari continue to talk every day\, and are excited to come together in Japan to realize their lifelong dream of connecting with a Tokyo audience.
URL:https://marinaomi.com/event/fabcafe-tokyo-reading-and-presentation-with-yumi-sakugawa/
LOCATION:FabCafe Tokyo\, 1-22-7 Dogenzaka\, Shibuya-ku\, Dogenzaka Pier 1F\, Tokyo\, Japan
END:VEVENT
END:VCALENDAR