BEGIN:VCALENDAR
VERSION:2.0
PRODID:-//MariNaomi - ECPv6.15.17.1//NONSGML v1.0//EN
CALSCALE:GREGORIAN
METHOD:PUBLISH
X-ORIGINAL-URL:https://marinaomi.com
X-WR-CALDESC:Events for MariNaomi
REFRESH-INTERVAL;VALUE=DURATION:PT1H
X-Robots-Tag:noindex
X-PUBLISHED-TTL:PT1H
BEGIN:VTIMEZONE
TZID:UTC
BEGIN:STANDARD
TZOFFSETFROM:+0000
TZOFFSETTO:+0000
TZNAME:UTC
DTSTART:20230101T000000
END:STANDARD
END:VTIMEZONE
BEGIN:VEVENT
DTSTART;VALUE=DATE:20240302
DTEND;VALUE=DATE:20240318
DTSTAMP:20260425T124928
CREATED:20240822T193415Z
LAST-MODIFIED:20240822T193415Z
UID:1576-1709337600-1710719999@marinaomi.com
SUMMARY:Art Exhibit: Doggo Show
DESCRIPTION:Group art show featuring MariNaomi’s mixed-media collage\, “Daikon Doggos”
URL:https://marinaomi.com/event/art-exhibit-doggo-show/
LOCATION:Giant Robot Store\, 2015 Sawtelle Blvd.\, Los Angeles\, CA\, 90025\, United States
END:VEVENT
BEGIN:VEVENT
DTSTART;VALUE=DATE:20240303
DTEND;VALUE=DATE:20240317
DTSTAMP:20260425T124928
CREATED:20240822T193513Z
LAST-MODIFIED:20240822T193513Z
UID:1578-1709424000-1710633599@marinaomi.com
SUMMARY:JoCo Cruise
DESCRIPTION:MariNaomi was a featured guest and performer on JoCo Cruise\, where they performed a reading\, spoke on a panel with John Hodgman and Mara Wilson (moderated by John Scalzi)\, and performed some very bad karaoke onstage with folks who actually knew how to sing.
URL:https://marinaomi.com/event/joco-cruise/
END:VEVENT
END:VCALENDAR