BEGIN:VCALENDAR
VERSION:2.0
PRODID:-//MariNaomi - ECPv6.15.17.1//NONSGML v1.0//EN
CALSCALE:GREGORIAN
METHOD:PUBLISH
X-WR-CALNAME:MariNaomi
X-ORIGINAL-URL:https://marinaomi.com
X-WR-CALDESC:Events for MariNaomi
REFRESH-INTERVAL;VALUE=DURATION:PT1H
X-Robots-Tag:noindex
X-PUBLISHED-TTL:PT1H
BEGIN:VTIMEZONE
TZID:UTC
BEGIN:STANDARD
TZOFFSETFROM:+0000
TZOFFSETTO:+0000
TZNAME:UTC
DTSTART:20220101T000000
END:STANDARD
END:VTIMEZONE
BEGIN:VEVENT
DTSTART;VALUE=DATE:20230806
DTEND;VALUE=DATE:20230807
DTSTAMP:20260426T012950
CREATED:20240822T195657Z
LAST-MODIFIED:20240822T195657Z
UID:1599-1691280000-1691366399@marinaomi.com
SUMMARY:Henderson’s Writer’s Group
DESCRIPTION:Dime Grinds author meet and greet.
URL:https://marinaomi.com/event/hendersons-writers-group/
LOCATION:Virtual Event
END:VEVENT
END:VCALENDAR