BEGIN:VCALENDAR
VERSION:2.0
PRODID:-//MariNaomi - ECPv6.15.17.1//NONSGML v1.0//EN
CALSCALE:GREGORIAN
METHOD:PUBLISH
X-WR-CALNAME:MariNaomi
X-ORIGINAL-URL:https://marinaomi.com
X-WR-CALDESC:Events for MariNaomi
REFRESH-INTERVAL;VALUE=DURATION:PT1H
X-Robots-Tag:noindex
X-PUBLISHED-TTL:PT1H
BEGIN:VTIMEZONE
TZID:UTC
BEGIN:STANDARD
TZOFFSETFROM:+0000
TZOFFSETTO:+0000
TZNAME:UTC
DTSTART:20220101T000000
END:STANDARD
END:VTIMEZONE
BEGIN:VEVENT
DTSTART;VALUE=DATE:20230617
DTEND;VALUE=DATE:20230618
DTSTAMP:20260426T041321
CREATED:20240822T200707Z
LAST-MODIFIED:20240822T200707Z
UID:1608-1686960000-1687046399@marinaomi.com
SUMMARY:Queer Comics Expo
DESCRIPTION:Banned Books Panel featuring MariNaomi\, AJ Sass\, and Katryn Bury
URL:https://marinaomi.com/event/queer-comics-expo/
LOCATION:San Lorenzo Library\, 395 Paseo Grande\, San Lorenzo\, CA\, 94580\, United States
END:VEVENT
END:VCALENDAR